BEGIN:VCALENDAR
VERSION:2.0
PRODID:-//Vznešený dom vzdelania - ECPv6.15.17.1//NONSGML v1.0//EN
CALSCALE:GREGORIAN
METHOD:PUBLISH
X-WR-CALNAME:Vznešený dom vzdelania
X-ORIGINAL-URL:https://vedomaskola.sk
X-WR-CALDESC:Udalosti pre Vznešený dom vzdelania
REFRESH-INTERVAL;VALUE=DURATION:PT1H
X-Robots-Tag:noindex
X-PUBLISHED-TTL:PT1H
BEGIN:VTIMEZONE
TZID:Europe/Bratislava
BEGIN:DAYLIGHT
TZOFFSETFROM:+0100
TZOFFSETTO:+0200
TZNAME:CEST
DTSTART:20250330T010000
END:DAYLIGHT
BEGIN:STANDARD
TZOFFSETFROM:+0200
TZOFFSETTO:+0100
TZNAME:CET
DTSTART:20251026T010000
END:STANDARD
BEGIN:DAYLIGHT
TZOFFSETFROM:+0100
TZOFFSETTO:+0200
TZNAME:CEST
DTSTART:20260329T010000
END:DAYLIGHT
BEGIN:STANDARD
TZOFFSETFROM:+0200
TZOFFSETTO:+0100
TZNAME:CET
DTSTART:20261025T010000
END:STANDARD
BEGIN:DAYLIGHT
TZOFFSETFROM:+0100
TZOFFSETTO:+0200
TZNAME:CEST
DTSTART:20270328T010000
END:DAYLIGHT
BEGIN:STANDARD
TZOFFSETFROM:+0200
TZOFFSETTO:+0100
TZNAME:CET
DTSTART:20271031T010000
END:STANDARD
END:VTIMEZONE
BEGIN:VEVENT
DTSTART;TZID=Europe/Bratislava:20260424T180000
DTEND;TZID=Europe/Bratislava:20260426T150000
DTSTAMP:20260426T014017
CREATED:20260406T191515Z
LAST-MODIFIED:20260407T083338Z
UID:10003612-1777053600-1777215600@vedomaskola.sk
SUMMARY:Víkend v ženskom kruhu • Spomalenie\, tvorenie a návrat k sebe | v Cerove
DESCRIPTION:Možno cítiš\, že potrebuješ na chvíľu vypnúť. Spomaliť. Nadýchnuť sa. Byť chvíľu len sama so sebou – bez tlaku\, bez rolí\, bez nárokov na výsledky.  \n\nTento víkend je pozvánkou práve do takého priestoru. Do jemnosti\, radosti a prirodzeného plynutia. Do miesta\, kde môžeš znovu počuť seba\, svoje telo\, svoje pocity…a dovoliť si jednoducho byť. V kruhu žien\, v prírode a vo svojej spontánnosti. \nČo ťa čaká:– zdieľanie v kruhu\n– maľovanie a tvorenie\n– jemná práca s telom\n– čajová ceremónia s poéziou\n– večerné premietanie filmu\n– ticho\, príroda\, kvety a priestor len pre seba\n \nOrganizačné informácieKedy:  \nMiesto konania: Online – ZOOM\, Link dostanete od organizátora emailom \nCena:  \n→ 40 € / domáca vegánska strava na celý víkend (2x raňajky a 2x neskorší obed)\n→  10 € / noc (ubytovanie)\n→ dobrovoľný príspevok za sprevádzanie\n!!! Platí sa všetko v hotovosti na mieste. !!! \nAk to s tebou zarezonovalo\, ozvi sa mi správou a rezervuj si svoje miesto.  \nSprievodkyňaStretnutím sprevádza Veronka Garbanová\, ktorá sa zameriava na život v súlade s prírodou a duchovnými hodnotami našich predkov. Svoje poznanie premieňa do jednoduchých a praktických návodov\, ako sa naladiť na rytmus tela\, duše a cyklov Zeme\, a tým vrátiť tvorivosť a radosť do súčasného života. \nSlávna záhradaSlávna záhrada je novovzniknutý komunitný priestor. Ponúka jednu veľkú spoločenskú drevenú miestnosť vhodnú na prácu\, s priestranným podkrovím na nocovanie. K dispozícii sú samostatná kúpeľna\, kuchynka a jedáleň vo vedlajšom dome\, takže nebudeme rušené. Okolie zahŕňa celú záhradu\, kde sa môžeme prechádzať\, oddychovať medzi stromami a užívať si pokoj a príjemnú spoločnú atmosféru. \nPrihlasovací formulár
URL:https://vedomaskola.sk/udalost/vikend-v-zenskom-kruhu-spomalenie-tvorenie-a-navrat-k-sebe-v-cerove/
LOCATION:Slávna Záhrada\, Cerovo 1\, Cerovo\, Slovakia (Slovak Republic)
CATEGORIES:Akcie a semináre,Náuka,Slávne vedy,Verejné,Veronika Garbanovie,Ženské kruhy
ATTACH;FMTTYPE=image/jpeg:https://vedomaskola.sk/wp-content/uploads/2026/04/IMG_1895.jpg
ORGANIZER;CN="Univerzita vedom%C3%A9ho %C5%BEivota%2C n. o.":MAILTO:podujatia@vedomaskola.sk
END:VEVENT
END:VCALENDAR